BEGIN:VCALENDAR
VERSION:2.0
PRODID:-//MiamiText - ECPv6.15.1.1//NONSGML v1.0//EN
CALSCALE:GREGORIAN
METHOD:PUBLISH
X-WR-CALNAME:MiamiText
X-ORIGINAL-URL:https://miamitext.com
X-WR-CALDESC:Events for MiamiText
REFRESH-INTERVAL;VALUE=DURATION:PT1H
X-Robots-Tag:noindex
X-PUBLISHED-TTL:PT1H
BEGIN:VTIMEZONE
TZID:UTC
BEGIN:STANDARD
TZOFFSETFROM:+0000
TZOFFSETTO:+0000
TZNAME:UTC
DTSTART:20190101T000000
END:STANDARD
END:VTIMEZONE
BEGIN:VEVENT
DTSTART;TZID=UTC:20200213T150000
DTEND;TZID=UTC:20200214T020000
DTSTAMP:20260423T223524
CREATED:20200204T161940Z
LAST-MODIFIED:20200204T162106Z
UID:1129-1581606000-1581645600@miamitext.com
SUMMARY:Strike Out Your Ex on Valentine's Day
DESCRIPTION:As the song goes\, “It must have been love…but it’s over now…” \nFor $10\, Kings Dining & Entertainment in CityPlace Doral will let you put your ex’s name on a pin (and other words we can’t mention here) and let you mow him/her down with a bowling ball. And you get to keep the pin. Available Feb. 13 & 14. For more info\, visit https://www.kings-de.com/promotions-all-venues/strike-out-2020. \n  \n 
URL:https://miamitext.com/event/strike-out-your-ex-on-valentines-day/
LOCATION:King Dining & Entertainment\, 3450 N.W. 83rd Ave.\, Doral\, FL\, 33122\, United States
CATEGORIES:Bowling,Community Event,Family,food,happy hour,Valentine's Day,Valentines Day
ATTACH;FMTTYPE=image/jpeg:https://miamitext.com/wp-content/uploads/2020/02/StrikeOut-KDE-520px-01172020.jpg
END:VEVENT
BEGIN:VEVENT
DTSTART;TZID=UTC:20190214T170000
DTEND;TZID=UTC:20190214T220000
DTSTAMP:20260423T223524
CREATED:20190203T225224Z
LAST-MODIFIED:20190211T001209Z
UID:371-1550163600-1550181600@miamitext.com
SUMMARY:Valentine’s Day Tuyo Restaurant
DESCRIPTION:This Valentine’s Day\, take your dining experience to a new level at Tuyo Restaurant\, located on the top floor of Miami Dade College’s (MDC) Miami Culinary Institute (MCI). Tuyo is one of South Florida’s most elegant and romantic dining experiences with unparalleled panoramic views of the downtown skyline and Biscayne Bay. \nTuyo’s contemporary American cuisine features classic flavor combinations highlighted by an emphasis on fresh\, quality ingredients. The special three-course Valentine’s Day menu will feature Smoked Alaskan King Crab Tomato Gazpacho\, Seared Scallops\, Beef Wellington and Grilled Wagyu Strip Steak. For dessert\, choose from Mango Carpaccio or Black Forest Cake. \nThe fine dining experience is $85 per person (tax and gratuity not included). \nTo reserve a table\, please call 305-237-3200\, or email reservations@tuyomiami.com. \nView the complete Valentine’s Day menu at http://www.tuyomiami.com/menu/2019-happy-valentines-day.aspx. \n  
URL:https://miamitext.com/event/valentines-day-tuyo-restaurant/
LOCATION:Tuyo Restaurant\, 415 NE Second Ave\, Miami\, United States
CATEGORIES:Valentines Day
ATTACH;FMTTYPE=image/jpeg:https://miamitext.com/wp-content/uploads/2019/02/tuyo-restaurant-valentines-miami-dade-college.jpg
END:VEVENT
END:VCALENDAR