BEGIN:VCALENDAR
VERSION:2.0
PRODID:-//MiamiText - ECPv6.15.1.1//NONSGML v1.0//EN
CALSCALE:GREGORIAN
METHOD:PUBLISH
X-ORIGINAL-URL:https://miamitext.com
X-WR-CALDESC:Events for MiamiText
REFRESH-INTERVAL;VALUE=DURATION:PT1H
X-Robots-Tag:noindex
X-PUBLISHED-TTL:PT1H
BEGIN:VTIMEZONE
TZID:UTC
BEGIN:STANDARD
TZOFFSETFROM:+0000
TZOFFSETTO:+0000
TZNAME:UTC
DTSTART:20190101T000000
END:STANDARD
END:VTIMEZONE
BEGIN:VEVENT
DTSTART;TZID=UTC:20200125T193000
DTEND;TZID=UTC:20200125T233000
DTSTAMP:20260423T210250
CREATED:20200124T153907Z
LAST-MODIFIED:20200124T153907Z
UID:1044-1579980600-1579995000@miamitext.com
SUMMARY:Chinese New Year Party @ Phuc Yea
DESCRIPTION:Usher in the Year of the Metal Rat with a full-on party at Miami’s favorite Vietnamese-Cajun restaurant. \nPhuc Yea’s Lunar New Year Party will feature Chinese New Year-inspired cocktails and pop-up food stations\, including a whole roast pig caja china\, chicken & veggie curry station\, cajun fried rice\, summer & veggie rolls. There will also be a lion dance show at 8:30 p.m.\, DJ spinning records all night and a fortune teller. \nTickets are $39 per person and include a welcome drink\, food\, entertainment\, and a goodie bag. \nPurchase tickets here. \n 
URL:https://miamitext.com/event/chinese-new-year-party-phuc-yea/
LOCATION:Phuc Yea\, 7100 Biscayne Blvd\, Miami\, FL\, 33138\, United States
CATEGORIES:expo,Family,food,Markets,Music
ATTACH;FMTTYPE=image/jpeg:https://miamitext.com/wp-content/uploads/2020/01/Year-of-the-Metal-Rat.jpg
END:VEVENT
BEGIN:VEVENT
DTSTART;TZID=UTC:20190503T190000
DTEND;TZID=UTC:20190531T190000
DTSTAMP:20260423T210250
CREATED:20190503T161612Z
LAST-MODIFIED:20190503T161932Z
UID:872-1556910000-1559329200@miamitext.com
SUMMARY:Free Live Music in Coral Gables
DESCRIPTION:Disconnect from the daily grind with free live music on every block of Coral Gables. Enjoy acoustic sounds while strolling down revitalized Miracle Mile\, featuring dining\, shopping and entertainment. Presented through a partnership between the Business Improvement District of Coral Gables and the City of Coral Gables\, performances take place every Friday starting at 7 p.m. \nMiracle Mile Unplugged in May: \nFriday\, May 3:\nJustine Garcia\nBaby B Strings solo\nDD duet\nJillian Dawn \nFriday\, May 10:\nJustine Garcia\nLuc LaChapelle Duo\nJorgie and Trace\nGreg Diamond \nFriday\, May 17:\nLuc LaChapelle Duo\nBaby B Strings solo\nDD duet\nIris Nasser \nFriday\, May 24:\nLuc LaChapelle Duo\nDD duet\nMarcus Magellan Solo\nMikel & Judy \nFriday\, May 31:\nBaby B Strings solo\nDD duet\nJorgie and Trace\nMarcus Magellan Soloist \n 
URL:https://miamitext.com/event/free-live-music-in-coral-gables/
LOCATION:Coral Gables\, 220 Miracle Mile\, Coral Gables\, FL\, 33134\, United States
CATEGORIES:Family,free events,kids,Music,outdoors
ATTACH;FMTTYPE=image/jpeg:https://miamitext.com/wp-content/uploads/2019/05/Miracle-Mile-Unplugged.jpg
END:VEVENT
BEGIN:VEVENT
DTSTART;TZID=UTC:20190416T193000
DTEND;TZID=UTC:20190504T223000
DTSTAMP:20260423T210250
CREATED:20190416T204238Z
LAST-MODIFIED:20190416T204349Z
UID:855-1555443000-1557009000@miamitext.com
SUMMARY:Wynwood Stories April 16 - May 4
DESCRIPTION:Juggerknot Theater\, creators of last year’s wildly successful “Miami Motel Stories\,” are back to tell the story of another iconic Miami neighborhood. \n“Wynwood Stories” is an immersive theater experience by local playwright Juan C. Sanchez and directed by New York City-based theater director Tai Thompson. You’ll cover Wynwood’s history from becoming the third largest garment district in the country to the arrival of Wynwood Walls aboard a bus. Complimentary cocktails provided by Coconut Cartel and Drakes Handcrafted Organic Vodka. Each bus route offers a different experience. \nTickets are $75 per person. Student Rush tickets are $25 and may be available ten minutes before each show at the Box Office\, based on availability. Students must show a valid ID. Must be 18 years or older to attend the show. \nPresented by Miami-Dade County Department of Transportation and Public Works. \nTickets and more information at http://www.thewynwoodstories.com.
URL:https://miamitext.com/event/wynwood-stories-april-16-may-4/
LOCATION:Wynwood Yard\, 56 N.W. 29th St.\, Miami\, FL\, 33127\, United States
CATEGORIES:Art,comedy,food,Music,theater
ATTACH;FMTTYPE=image/jpeg:https://miamitext.com/wp-content/uploads/2019/04/Wynwood-Stories.jpg
END:VEVENT
BEGIN:VEVENT
DTSTART;TZID=UTC:20190412T180000
DTEND;TZID=UTC:20190412T210000
DTSTAMP:20260423T210250
CREATED:20190219T211031Z
LAST-MODIFIED:20190329T190904Z
UID:652-1555092000-1555102800@miamitext.com
SUMMARY:Miami Design District Presents Free Concert by Disco Queen Gloria Gaynor
DESCRIPTION:The Miami Design District Performance Series presents a FREE concert by disco queen Gloria Gaynor starting at 6 p.m. on Friday\, April 12\, at the Palm Court. Seats available on a first come\, first served basis. \nThe Performance Series is presented by the Knight Foundation and produced by 19-time Grammy Award-winning producer Emilio Estefan in collaboration with the Miami Symphony Orchestra. The concert take place outdoors adjacent to Estefan Kitchen\, which offers happy hour all day Mondays and Tuesday – Friday\, from 4 – 8 p.m. For VIP table and bottle service reservation call 786-843-3880. \nSelf parking is $3. Valet parking is $5.
URL:https://miamitext.com/event/albita-at-the-miami-design-district/
LOCATION:Palm Court\, 140 N.E. 39th St.\, Miami\, 33137\, United States
CATEGORIES:Concert,food,free events,happy hour,Music,outdoors
ATTACH;FMTTYPE=image/jpeg:https://miamitext.com/wp-content/uploads/2019/02/Palm-Court.jpg
END:VEVENT
BEGIN:VEVENT
DTSTART;TZID=UTC:20190405T200000
DTEND;TZID=UTC:20190414T160000
DTSTAMP:20260423T210250
CREATED:20190329T194839Z
LAST-MODIFIED:20190329T195024Z
UID:817-1554494400-1555257600@miamitext.com
SUMMARY:La Verdadera Historia de Pedro Navaja
DESCRIPTION:Miami Dade College’s Teatro Prometeo presents La Verdadera Historia de Pedro Navaja\, created by Puerto Rican playwright and director Pablo Cabrera with music by Pedro Rivera-Toledo. Prometeo brings this legendary musical back to the stage for the first time in 15 years—running Friday\, April 5 through Sunday\, April 14 at MDC’s Koubek Center in the heart of Little Havana. This play is in Spanish. \nInspired by John Gay’s The Begger’s Opera and Ruben Blade’s iconic salsa song\, the musical was first performed by Teatro del 60 in Puerto Rico in the early 1980s before heading to New York\, where it made its way to Broadway\, garnered critical acclaim and boasted sold-out performances across Puerto Rico\, the Dominican Republic\, Venezuela\, Cuba\, Ecuador and many other Latin American and Caribbean countries. \nPrometeo is adding its own twist. The show will feature more than 25 dancers\, actors\, and singers\, including acclaimed actress Beatriz Valdés (La Bella de la Alhambra\, Azul y no tan Rosa)\, singer-songwriter Manolo Ramos (Ser tu Amigo\, Dueña y Señora)\, powerhouse singer Karen Martello\, and a live salsa band directed by international musician\, Yusa.  The show is directed by Teatro Prometeo’s Edgar García. \nTickets are $40 general admission; $20 seniors/students/MDC employees; $10 MDC students. Purchase tickets at https://www.brownpapertickets.com/event/3576453 or call 800-838-3006. \nValet parking is $6; or arrive early and look for street parking.
URL:https://miamitext.com/event/la-verdadera-historia-de-pedro-navaja/
LOCATION:Koubek Center\, 2705 S.W. 3rd St.\, Miami\, FL\, 33135\, United States
CATEGORIES:Concert,Music,musical,play,theater
ATTACH;FMTTYPE=image/jpeg:https://miamitext.com/wp-content/uploads/2019/03/Pedro-Navaja.jpg
END:VEVENT
BEGIN:VEVENT
DTSTART;TZID=UTC:20190324T100000
DTEND;TZID=UTC:20190324T130000
DTSTAMP:20260423T210250
CREATED:20190305T150533Z
LAST-MODIFIED:20190305T150533Z
UID:679-1553421600-1553432400@miamitext.com
SUMMARY:Celebrating Women at Miami Beach Botanical Garden
DESCRIPTION:During Women’s History Month\, the Miami Beach Botanical Garden\, New World Symphony and Tropical Vinyasa will present a Day of Wellness\, Music and Yoga Celebrating Women in the Garden from 10 a.m. – 1 p.m. on Sunday\, March 24. \nEveryone is encouraged to attend this community event to honor the female spirit in all of us and celebrate\, inspire and empower the women in our lives. Tickets are $10 and include admission to the garden\, yoga\, live music\, planting activity and donation to local nonprofits. \nFor more information\, please visit the Miami Beach Botanical Garden website.
URL:https://miamitext.com/event/celebrating-women-at-miami-beach-botanical-garden/
LOCATION:Miami Beach Botanical Garden\, 2000 Convention Center Dr.\, Miami Beach\, FL\, 33139\, United States
CATEGORIES:Family,food,Music,outdoors,Parks,yoga
ATTACH;FMTTYPE=image/jpeg:https://miamitext.com/wp-content/uploads/2019/03/MBBG_yoga_day.jpg
END:VEVENT
BEGIN:VEVENT
DTSTART;TZID=UTC:20190302T100000
DTEND;TZID=UTC:20190303T220000
DTSTAMP:20260423T210250
CREATED:20190210T191152Z
LAST-MODIFIED:20190210T191152Z
UID:407-1551520800-1551650400@miamitext.com
SUMMARY:Carnaval On The Mile
DESCRIPTION:Presented by the Kiwanis Club of Little Havana\, the annual Carnaval On the Mile is a FREE art and music festival in beautiful Coral Gables. The two-day event will take place March 2 – 3\, featuring works by approximately 150 local artists\, 50 artisan vendors\, live music\, food\, and activities for children. \nTwo large stages will be crowned by world-renowned Latin\, jazz\, funk and rock musicians. This year’s lineup includes Locos Por Juana\, Nestor Torres and Palo! among others. For complete details\, visit the event website. \nCheck out the music schedule:  \nSaturday\, March 2 @ the Heineken Stage on Ponce de Leon Blvd \nCris Cab \nMonsieur Periné \nJenny and the Mexicans \nEdan Archer \nBrothers For Others \nSisters Mann \nSaturday\, March 2 @ the Telemundo 51/NBC 6 Stage on Douglas Road \nCon Brio \nLocos Por Juan \nPalo! \nConjunto Progreso \nElectric Piquete \nJust Blues and More \nSunday\, March 3 @ the Heineken Stage on Ponce de Leon Blvd \nJenny and the Mexicans \nNestor Torres and the Frost Ensemble \nArthur Hanlon Ensemble \nCon Brio \nSol Ruiz \nPeople You Know \nHealers \nSunday\, March 3 @ the Telemundo 51/NBC 6 Stage on Douglas Road \nThe Colognes \nThe Brevet \nREMYZ \nSuper Fuzz
URL:https://miamitext.com/event/carnaval-on-the-mile/
LOCATION:FL
CATEGORIES:Art,Concert,Family,Music,outdoors
ATTACH;FMTTYPE=image/jpeg:https://miamitext.com/wp-content/uploads/2019/02/Carnaval-on-the-Mile-2019.jpg
END:VEVENT
END:VCALENDAR