BEGIN:VCALENDAR
VERSION:2.0
PRODID:-//MiamiText - ECPv6.15.1.1//NONSGML v1.0//EN
CALSCALE:GREGORIAN
METHOD:PUBLISH
X-ORIGINAL-URL:https://miamitext.com
X-WR-CALDESC:Events for MiamiText
REFRESH-INTERVAL;VALUE=DURATION:PT1H
X-Robots-Tag:noindex
X-PUBLISHED-TTL:PT1H
BEGIN:VTIMEZONE
TZID:UTC
BEGIN:STANDARD
TZOFFSETFROM:+0000
TZOFFSETTO:+0000
TZNAME:UTC
DTSTART:20190101T000000
END:STANDARD
END:VTIMEZONE
BEGIN:VEVENT
DTSTART;TZID=UTC:20190512T103000
DTEND;TZID=UTC:20190512T220000
DTSTAMP:20260423T223845
CREATED:20190503T195602Z
LAST-MODIFIED:20190503T200053Z
UID:879-1557657000-1557698400@miamitext.com
SUMMARY:Moms Eat Free at PDQ on Mother's Day
DESCRIPTION:On Mother’s Day\, May 12\, PDQ is treating moms to one free meal\, bowl or salad and 20 oz. beverage with the purchase of a meal\, bowl or salad. The free meal must be of equal of lesser value to the purchased meal. \nOffer is not valid for online orders or third party delivery\, and is also not valid at the PDQ Test Kitchen\, or airport or arena locations. \nFind your PDQ restaurant here.
URL:https://miamitext.com/event/moms-eat-free-at-pdq-on-mothers-day/
CATEGORIES:Family,food,free events,Mother's Day
ATTACH;FMTTYPE=image/jpeg:https://miamitext.com/wp-content/uploads/2019/05/PDQ.jpg
END:VEVENT
END:VCALENDAR