BEGIN:VCALENDAR
VERSION:2.0
PRODID:-//MiamiText - ECPv6.15.1.1//NONSGML v1.0//EN
CALSCALE:GREGORIAN
METHOD:PUBLISH
X-WR-CALNAME:MiamiText
X-ORIGINAL-URL:https://miamitext.com
X-WR-CALDESC:Events for MiamiText
REFRESH-INTERVAL;VALUE=DURATION:PT1H
X-Robots-Tag:noindex
X-PUBLISHED-TTL:PT1H
BEGIN:VTIMEZONE
TZID:UTC
BEGIN:STANDARD
TZOFFSETFROM:+0000
TZOFFSETTO:+0000
TZNAME:UTC
DTSTART:20190101T000000
END:STANDARD
END:VTIMEZONE
BEGIN:VEVENT
DTSTART;TZID=UTC:20200222T090000
DTEND;TZID=UTC:20200222T170000
DTSTAMP:20260423T192905
CREATED:20200128T201537Z
LAST-MODIFIED:20200128T201654Z
UID:1123-1582362000-1582390800@miamitext.com
SUMMARY:The Great Coral Gables Scavenger Hunt
DESCRIPTION:Got what it takes to solve a puzzle? Put your skills to the test at the first annual Great Coral Gables Scavenger Hunt on Saturday\, Feb. 22. Free and open to all ages. \nThe Great Coral Gables Scavenger Hunt is designed for families and kids from 10 a.m. – 12 p.m.  Follow curious clues while exploring Miracle Mile & Downtown Coral Gables by foot for a chance to win prizes. For a larger and even more brain-teasing scavenger hunt\, head over to the Coral Gables Museum at 285 Aragon Ave. after the hunt. Adults can register at 1 p.m. for a grown-up scavenger hunt\, which will take place from 2 to 5 p.m. by car all over the City of Coral Gables. \nTo participate\, check-in at 9 a.m. at the Actor’s Playhouse at the Miracle Theater\, 280 Miracle Mile. \nThe Great Coral Gables Scavenger hunt is presented by Downtown Coral Gables & Miracle Mile and Coral Gables Magazine. Partners include The Actor’s Playhouse and The Great Escape Room Miami. \n  \n 
URL:https://miamitext.com/event/the-great-coral-gables-scavenger-hunt/
LOCATION:Actor’s Playhouse at the Miracle Theatre\, 280 Miracle Mile\, Coral Gables\, FL\, 33144\, United States
CATEGORIES:Community Event,Family,free events,kids,museum,outdoors,Parks,play,scavenger hunt
ATTACH;FMTTYPE=image/jpeg:https://miamitext.com/wp-content/uploads/2020/01/Scavenger-Hunt.jpg
END:VEVENT
BEGIN:VEVENT
DTSTART;TZID=UTC:20200124T093000
DTEND;TZID=UTC:20200126T163000
DTSTAMP:20260423T192905
CREATED:20200117T162207Z
LAST-MODIFIED:20200117T165854Z
UID:1030-1579858200-1580056200@miamitext.com
SUMMARY:14th Annual Chocolate Garden @ Fairchild
DESCRIPTION:Fairchild Tropical Botanic Garden’s annual Chocolate Garden festival\, returns for a 14th consecutive year with new vendors\, tasty treats and fun activities throughout the property’s lush 83-acre garden. The artisan village and food hall on Friday\, Saturday and Sunday will host local retail vendors\, chefs and artisan chocolatiers. \nOn Saturday and Sunday\, the Fresh from Fairchild Marketplace presents the Milkshake Shoppe and Chocolate Lab. Miami cult favorite Whip’n Dip Ice Cream Shop will host the Milkshake Shoppe and create ultimate custom milkshakes at their made-to-order milkshake bar. The Chocolate Lab will turn chocolate into an interactive experience – think chocolate painting\, chocolate spin art\, plant science and more! \nAdmission is $25 for adults\, $18 for seniors 65 and up\, $12 for children 6-17\, and free for Fairchild members and children 5 and under. \nTo purchase tickets and for more information\, visit www.fairchildgarden.org.
URL:https://miamitext.com/event/14th-annual-chocolate-garden-festival/
LOCATION:Fairchild Tropical Botanic Garden\, 10901 Old Cutler Road\, Coral Gables\, FL\, 33156\, United States
CATEGORIES:Family,food,kids,Markets,museum,Parks
ATTACH;FMTTYPE=image/jpeg:https://miamitext.com/wp-content/uploads/2020/01/WP_20140801_12_19_43_Raw__highres_EDIT.jpg
END:VEVENT
BEGIN:VEVENT
DTSTART;TZID=UTC:20190727T140000
DTEND;TZID=UTC:20190727T180000
DTSTAMP:20260423T192905
CREATED:20190718T185624Z
LAST-MODIFIED:20190718T190042Z
UID:896-1564236000-1564250400@miamitext.com
SUMMARY:Summer Fun on the Mile
DESCRIPTION:The Business Improvement District (BID) of Coral Gables presents an afternoon of yard games\, tasty treats\, frozen treats\, arts and crafts and more for the entire family. There will be bites for purchase from Clutch Burger\, California Pizza Kitchen\, BurgerFi and John Martin’s Irish Pub & Restaurant. Kids can sample shaved ice\, fresh lemonade and buttered popcorn. This event is free and open to the public. \nGet more information and RSVP here.
URL:https://miamitext.com/event/summer-fun-on-the-mile/
LOCATION:McBride Plaza\, 150 Miracle Mile\, Coral Gables\, FL\, 33134\, United States
CATEGORIES:Family,free events,kids,outdoors,Parks,play
ATTACH;FMTTYPE=image/jpeg:https://miamitext.com/wp-content/uploads/2019/07/Summer-Fun-on-the-Mile.jpg
END:VEVENT
BEGIN:VEVENT
DTSTART;TZID=UTC:20190503T190000
DTEND;TZID=UTC:20190531T190000
DTSTAMP:20260423T192905
CREATED:20190503T161612Z
LAST-MODIFIED:20190503T161932Z
UID:872-1556910000-1559329200@miamitext.com
SUMMARY:Free Live Music in Coral Gables
DESCRIPTION:Disconnect from the daily grind with free live music on every block of Coral Gables. Enjoy acoustic sounds while strolling down revitalized Miracle Mile\, featuring dining\, shopping and entertainment. Presented through a partnership between the Business Improvement District of Coral Gables and the City of Coral Gables\, performances take place every Friday starting at 7 p.m. \nMiracle Mile Unplugged in May: \nFriday\, May 3:\nJustine Garcia\nBaby B Strings solo\nDD duet\nJillian Dawn \nFriday\, May 10:\nJustine Garcia\nLuc LaChapelle Duo\nJorgie and Trace\nGreg Diamond \nFriday\, May 17:\nLuc LaChapelle Duo\nBaby B Strings solo\nDD duet\nIris Nasser \nFriday\, May 24:\nLuc LaChapelle Duo\nDD duet\nMarcus Magellan Solo\nMikel & Judy \nFriday\, May 31:\nBaby B Strings solo\nDD duet\nJorgie and Trace\nMarcus Magellan Soloist \n 
URL:https://miamitext.com/event/free-live-music-in-coral-gables/
LOCATION:Coral Gables\, 220 Miracle Mile\, Coral Gables\, FL\, 33134\, United States
CATEGORIES:Family,free events,kids,Music,outdoors
ATTACH;FMTTYPE=image/jpeg:https://miamitext.com/wp-content/uploads/2019/05/Miracle-Mile-Unplugged.jpg
END:VEVENT
BEGIN:VEVENT
DTSTART;TZID=UTC:20190420T100000
DTEND;TZID=UTC:20190420T130000
DTSTAMP:20260423T192905
CREATED:20190401T181833Z
LAST-MODIFIED:20190402T160609Z
UID:825-1555754400-1555765200@miamitext.com
SUMMARY:Free Easter Egg Hunt @ Schenley Park
DESCRIPTION:The Neighbors of Schenley Park and Cricket Wireless present the 11th Annual Easter Egg Hunt at Schenley Park on Saturday\, April 20\, at Schenley Park in West Miami. Free and open to the public. \nBring a basket to join the Egg Hunt\, which starts at 10 a.m. sharp. Other activities include a bounce house\, games\, face painting\, music\, games\, and a visit by the Easter Bunny. Food trucks will include Magic Box Fritas\, Smack Sweets and Kona Ice. \nOther participating businesses include OneBlood Bloodmobile and Fairy Tails Adoptions. \nShow your Eventbrite ticket and get a raffle ticket for a chance to win great prizes.
URL:https://miamitext.com/event/11th-annual-easter-egg-hunt-schenley-park/
LOCATION:Schenley Park\, 2700 S.W. 57th Ave.\, West Miami\, FL\, 33155\, United States
CATEGORIES:Family,free events,kids,Parks
ATTACH;FMTTYPE=image/jpeg:https://miamitext.com/wp-content/uploads/2019/04/Easter-Egg-Hunt.jpg
END:VEVENT
BEGIN:VEVENT
DTSTART;TZID=UTC:20190406T183000
DTEND;TZID=UTC:20190406T203000
DTSTAMP:20260423T192905
CREATED:20190322T203100Z
LAST-MODIFIED:20190322T203845Z
UID:796-1554575400-1554582600@miamitext.com
SUMMARY:O\, Miami Presents Poetry in Pajamas for Kids
DESCRIPTION:O’Miami kicks off National Poetry Month with a pajama party like no other. \nStaged on a giant bed at the enchanting Miami Beach Botanical Garden\, the 2nd annual Poetry in Pajamas is a family-friendly event that welcomes children of all ages to recite poetry in their pajamas. \nPoetry in Pajamas was created by brothers Sam\, 9\, and Simon\, 6\, who started reciting poetry in their pajamas from the bottom bunk of their North Bay Village bunk beds. Their mom\, local artist Sara Kaplan\, shared her kids reciting poetry on social media and soon they began receiving poems from other kids in pajamas. Poetry in Pajamas believes in empowering kids’ voices and ideas through writing\, reading\, and understanding poetry. Kids may submit a poem to be published in the Poetry in Pajamas Coloring Book to poetryinpajamas@gmail.com. \nMiami’s Afrobeta will provides music and there will be snacks from Edible South Florida. Also check out the Dreamcatcher installation under the banyan tree by artist Kandi Stirman. \nSuggested dress code: Pajamas and slippers. \nRSVP for free here.  \n 
URL:https://miamitext.com/event/o-miami-presents-poetry-in-pajamas/
LOCATION:Miami Beach Botanical Garden\, 2000 Convention Center Dr.\, Miami Beach\, FL\, 33139\, United States
CATEGORIES:Family,food,free events,kids,outdoors,Parks,poetry
ATTACH;FMTTYPE=image/jpeg:https://miamitext.com/wp-content/uploads/2019/03/O-Miami-PoetryinPajamas-IG-022718.jpg
END:VEVENT
BEGIN:VEVENT
DTSTART;TZID=UTC:20190329T160000
DTEND;TZID=UTC:20190406T160000
DTSTAMP:20260423T192905
CREATED:20190326T143240Z
LAST-MODIFIED:20190326T143843Z
UID:804-1553875200-1554566400@miamitext.com
SUMMARY:Laughter in the Library: Freddy Stebbins' One-Man Show
DESCRIPTION:This is your chance to make noise in the library and not get in trouble. \nThe Miami-Dade Public Library System and Comic Cure team up to present Laughter in the Library Tour – Miami: A Very Funny History powered by The Miami Foundation’s Public Space Challenge with investment by Target. \nThe hilarious show\, featuring award-winning comedian and Miami Dade College professor Freddy Stebbins\, takes you back in time to the magical moments and people that transformed Miami. This one-of-a-kind journey depicts the city’s changing landscape over time and celebrates the global cultures that have shaped it with a blend of humor and history the entire family can enjoy. \nHere’s a list of upcoming shows: \n\nFriday\, March 29 @ 4 p.m.\nPinecrest Branch Library – 5835 SW 111 St.\, Pinecrest\, FL 33156\nSaturday\, March 30 @ 2 p.m.\nKendale Lakes Branch Library – 15205 SW 88 St.\, Miami\, FL 33196\nSaturday\, April 6 @ 4 p.m.\nNortheast Branch Library – 2930 Aventura Blvd.\, Aventura\, FL 33180\n\nThis is a free event\, RSVP here. \nAll ages are welcome. First come first serve seating. Limited seating available. Free parking on site. \nCan’t make it in person? Click here to join the LIVE broacasts on Facebook.
URL:https://miamitext.com/event/laughter-in-the-library-freddy-stebbins-one-man-show/
LOCATION:FL
CATEGORIES:comedy,Family,free events,kids,library
ATTACH;FMTTYPE=image/jpeg:https://miamitext.com/wp-content/uploads/2019/03/Freddy-Stebbins.jpg
END:VEVENT
BEGIN:VEVENT
DTSTART;TZID=UTC:20190223T100000
DTEND;TZID=UTC:20190223T170000
DTSTAMP:20260423T192905
CREATED:20190215T165345Z
LAST-MODIFIED:20190215T204611Z
UID:424-1550916000-1550941200@miamitext.com
SUMMARY:Kids Fest at the Actor's Playhouse
DESCRIPTION:The Actor’s Playhouse at the Miracle Theatre in Coral Gables presents Kids Fest Family Day 2019\, a day of theater fun for kids. \nThe year’s Fest will feature two performances of the Musical Theatre for Young Audiences’ production of Cinderella and Into the Woods Jr. In addition\, kids can tap into their creativity at a variety of hands-on activity stations\, including Costume Design\, Crown and Tiara Making and Paint a Portrait. Other activities include face painting\, balloon art and photos with costumed characters. Lunch and snacks will be available for purchase. Tickets are $23. For more information\, visit http://www.actorsplayhouse.org. \nSchedule: \nSession 1 – 10 a.m. – 3 p.m.\nSession 2 – Noon – 5 p.m. \n  \n  \n  \n 
URL:https://miamitext.com/event/kids-fest-at-the-actors-playhouse/
LOCATION:Actor’s Playhouse at the Miracle Theatre\, 280 Miracle Mile\, Coral Gables\, FL\, 33144\, United States
CATEGORIES:Art,Family,kids,theater
ATTACH;FMTTYPE=image/jpeg:https://miamitext.com/wp-content/uploads/2019/02/kidsfest_familyday.jpg
END:VEVENT
END:VCALENDAR