BEGIN:VCALENDAR
VERSION:2.0
PRODID:-//MiamiText - ECPv6.15.1.1//NONSGML v1.0//EN
CALSCALE:GREGORIAN
METHOD:PUBLISH
X-ORIGINAL-URL:https://miamitext.com
X-WR-CALDESC:Events for MiamiText
REFRESH-INTERVAL;VALUE=DURATION:PT1H
X-Robots-Tag:noindex
X-PUBLISHED-TTL:PT1H
BEGIN:VTIMEZONE
TZID:UTC
BEGIN:STANDARD
TZOFFSETFROM:+0000
TZOFFSETTO:+0000
TZNAME:UTC
DTSTART:20180101T000000
END:STANDARD
END:VTIMEZONE
BEGIN:VEVENT
DTSTART;TZID=UTC:20180617T150000
DTEND;TZID=UTC:20180617T200000
DTSTAMP:20260424T015038
CREATED:20180522T134935Z
LAST-MODIFIED:20180522T135014Z
UID:23-1529247600-1529265600@miamitext.com
SUMMARY:Treat Dad to a Super Father’s Day Brunch at Tuyo June 17
DESCRIPTION:Give dear ol’ dad the very best on Father’s Day with a specially-crafted brunch at Miami Dade College’s (MDC) acclaimed rooftop restaurant Tuyo on Sunday\, June 17\, from 11 a.m. – 4 p.m. \nThe brunch selections prepared by  Executive Chef Victor Santos include Local Snapper Ceviche\, Creamed Mushroom Tartine and Beef Croquettes for starters. \n\nEgg dishes include two types of eggs benedict served with fries and Mesclun Salad.\nEntrees feature the famous Tuyo Burger\, Grilled Dry-Aged Ribeye Steak\, Filet of Halibut\, and Organic Quinoa “Pad Thai.”\n\nLocated on the top floor of MDC’s  Miami Culinary Institute (MCI)\, Tuyo offers one of South Florida’s most elegant dining experiences\, first-class service\, and an unparalleled panoramic view of the downtown skyline and Biscayne Bay. \nTuyo has been rated by OpenTable diners as one of the area’s top restaurants for ambiance\, scenic views and celebrating special occasions. \nTo make a reservation\, please call 305-237-3200\, or e-mail reservations@tuyomiami.com. \nView all Tuyo menus at www.tuyomiami.com.  \n\nWHEN:           Father’s Day Brunch Menu at Tuyo\nWHEN:           Sunday\, June 17\, 11 a.m. – 4 p.m.\nWHERE:         Tuyo Restaurant\n\n415 N.E. Second Ave.
URL:https://miamitext.com/event/fathers-day-brunch-at-tuyo-june-17/
LOCATION:Tuyo Restaurant\, 415 NE Second Ave\, Miami\, United States
CATEGORIES:fathers day
END:VEVENT
END:VCALENDAR